BEGIN:VCALENDAR
VERSION:2.0
PRODID:-//hacksw/handcal//NONSGML v1.0//EN
BEGIN:VEVENT
UID:f49c788b935cb6b53b62602db01dc8b6
DTSTAMP:20260419T152012Z

DTSTART:20260601T090000
DTEND:20260602T170000
SUMMARY:Indiana Realtors Summer Summit 2026
DESCRIPTION:The Summer Summit brings the real estate industry together outside Indianapolis to showcase our thriving communities, explore unique market trends and hear from colleagues, partners and experts working across the state.

X-ALT-DESC;FMTTYPE=text/html:<!DOCTYPE HTML PUBLIC "-//W3C//DTD HTML 3.2//EN">\n<HTML>\n<HEAD>\n<META NAME="Generator" CONTENT="MS Exchange Server version 08.00.0681.000">\n<TITLE></TITLE>\n</HEAD>\n<BODY>\n<!-- Converted from text/rtf format -->\n\nThe Summer Summit brings the real estate industry together outside Indianapolis to showcase our thriving communities, explore unique market trends and hear from colleagues, partners and experts working across the state.\n\n</BODY>\n</HTML>

LOCATION:Embassy Suites by Hilton South Bend at Notre Dame, 1140, East Angela Boulevard, Eddy Street Commons, South Bend, Saint Joseph County, Indiana, 46617, United States
END:VEVENT

END:VCALENDAR
