BEGIN:VCALENDAR
VERSION:2.0
PRODID:-//hacksw/handcal//NONSGML v1.0//EN
BEGIN:VEVENT
UID:27870c5a4e67f8b9aaf8c7423a8a0799
DTSTAMP:20260419T171106Z

DTSTART:20260911T100000
DTEND:20260913T170000
SUMMARY:Nashville Home Show 2026
DESCRIPTION:ADMISSION\nAdults (box office) - $10    \nAdults (online only) - $8 \n\nSeniors FREE Every day! Seniors (65+) FREE every day with valid I.D.\n\nChildren Ages 12 & Under - FREE\n\n4-PACK ONLINE: Get 4 tickets for the price of 3!\nDiscounted rate: $24 per 4 pack.\nTickets valid for one admission each. Valid for one day only.

X-ALT-DESC;FMTTYPE=text/html:<!DOCTYPE HTML PUBLIC "-//W3C//DTD HTML 3.2//EN">\n<HTML>\n<HEAD>\n<META NAME="Generator" CONTENT="MS Exchange Server version 08.00.0681.000">\n<TITLE></TITLE>\n</HEAD>\n<BODY>\n<!-- Converted from text/rtf format -->\n\nADMISSION<br />Adults (box office) - $10    <br />Adults (online only) - $8 <br /><br />Seniors FREE Every day! Seniors (65+) FREE every day with valid I.D.<br /><br />Children Ages 12 & Under - FREE<br /><br />4-PACK ONLINE: Get 4 tickets for the price of 3!<br />Discounted rate: $24 per 4 pack.<br />Tickets valid for one admission each. Valid for one day only.\n\n</BODY>\n</HTML>

LOCATION:201, Rep. John Lewis Way South, Downtown Nashville, Nashville, Davidson County, Middle Tennessee, Tennessee, 37203, United States
END:VEVENT

END:VCALENDAR
