BEGIN:VCALENDAR
VERSION:2.0
PRODID:-//hacksw/handcal//NONSGML v1.0//EN
BEGIN:VEVENT
UID:d91c6e16232677f4ed72ec2de29fee6c
DTSTAMP:20260419T184918Z

DTSTART:20260911T120000
DTEND:20260913T170000
SUMMARY:Colorado Fall Home Show 2026
DESCRIPTION:Admission\nAdults (Box Office) $10.00\nSenior (Ages 65 & Older) $8.00 \nChildren (Ages 12 & Under) Free

X-ALT-DESC;FMTTYPE=text/html:<!DOCTYPE HTML PUBLIC "-//W3C//DTD HTML 3.2//EN">\n<HTML>\n<HEAD>\n<META NAME="Generator" CONTENT="MS Exchange Server version 08.00.0681.000">\n<TITLE></TITLE>\n</HEAD>\n<BODY>\n<!-- Converted from text/rtf format -->\n\nAdmission<br />Adults (Box Office) $10.00<br />Senior (Ages 65 & Older) $8.00 <br />Children (Ages 12 & Under) Free\n\n</BODY>\n</HTML>

LOCATION:Colorado Convention Center, 700, 14th Street, Central Business District, Denver, Colorado, 80202, United States
END:VEVENT

END:VCALENDAR
