BEGIN:VCALENDAR
VERSION:2.0
PRODID:-//hacksw/handcal//NONSGML v1.0//EN
BEGIN:VEVENT
UID:0a7d3dc3ad91884297aa617b0affac68
DTSTAMP:20260419T185039Z

DTSTART:20260410T100000
DTEND:20260412T180000
SUMMARY:Fairgrounds Southern Ideal Home Show 2026
DESCRIPTION:"As always, we have TWO BUILDINGS packed with exhibits: the Exposition Center and Jim Graham Building! Attendees will be able to enter the show at BOTH buildings. Box Office and Will Call will ONLY be located in the entrance to the Exposition Center. Enjoy the show!"

X-ALT-DESC;FMTTYPE=text/html:<!DOCTYPE HTML PUBLIC "-//W3C//DTD HTML 3.2//EN">\n<HTML>\n<HEAD>\n<META NAME="Generator" CONTENT="MS Exchange Server version 08.00.0681.000">\n<TITLE></TITLE>\n</HEAD>\n<BODY>\n<!-- Converted from text/rtf format -->\n\n"As always, we have TWO BUILDINGS packed with exhibits: the Exposition Center and Jim Graham Building! Attendees will be able to enter the show at BOTH buildings. Box Office and Will Call will ONLY be located in the entrance to the Exposition Center. Enjoy the show!"\n\n</BODY>\n</HTML>

LOCATION:North Carolina State Fairgrounds, 1025, Westover, Raleigh, Wake County, North Carolina, 27607, United States
END:VEVENT

END:VCALENDAR
