BEGIN:VCALENDAR
VERSION:2.0
PRODID:-//hacksw/handcal//NONSGML v1.0//EN
BEGIN:VEVENT
UID:432f8273972606063cdf9d26c24ff0c0
DTSTAMP:20260419T170831Z

DTSTART:20260410T120000
DTEND:20260412T160000
SUMMARY:Fredericton Home Show 2026
DESCRIPTION:Admission\nAdults (Box Office): $7.00\n\nAdults (Buy online & save $1): $6.00**\n\nSeniors 65+: $5.00\n\nChildren Ages 17 & Under: Free\n\n4-PACK (Get 4 tickets for the price of 3!): $21.00 per 4 pack

X-ALT-DESC;FMTTYPE=text/html:<!DOCTYPE HTML PUBLIC "-//W3C//DTD HTML 3.2//EN">\n<HTML>\n<HEAD>\n<META NAME="Generator" CONTENT="MS Exchange Server version 08.00.0681.000">\n<TITLE></TITLE>\n</HEAD>\n<BODY>\n<!-- Converted from text/rtf format -->\n\nAdmission<br />Adults (Box Office): $7.00<br /><br />Adults (Buy online & save $1): $6.00**<br /><br />Seniors 65+: $5.00<br /><br />Children Ages 17 & Under: Free<br /><br />4-PACK (Get 4 tickets for the price of 3!): $21.00 per 4 pack\n\n</BODY>\n</HTML>

LOCATION:Rue Smythe Street, Rabbit Town, Sunshine Gardens, Town Plat, Fredericton, City of Fredericton, York County, New Brunswick / Nouveau-Brunswick, E3B 3E6, Canada
END:VEVENT

END:VCALENDAR
