BEGIN:VCALENDAR
VERSION:2.0
PRODID:-//hacksw/handcal//NONSGML v1.0//EN
BEGIN:VEVENT
UID:5f9a1040ade1cf392ca62fd1da133474
DTSTAMP:20260419T184958Z

DTSTART:20260410T100000
DTEND:20260412T170000
SUMMARY:Central Kentucky Home Show 2026
DESCRIPTION:ADMISSION\nBOX OFFICE\nAdults (Ages 13+): $11.00\nSeniors (Ages 65+) Box office or online: $7.00\nChildren Ages 12 & Under: FREE

X-ALT-DESC;FMTTYPE=text/html:<!DOCTYPE HTML PUBLIC "-//W3C//DTD HTML 3.2//EN">\n<HTML>\n<HEAD>\n<META NAME="Generator" CONTENT="MS Exchange Server version 08.00.0681.000">\n<TITLE></TITLE>\n</HEAD>\n<BODY>\n<!-- Converted from text/rtf format -->\n\nADMISSION<br />BOX OFFICE<br />Adults (Ages 13+): $11.00<br />Seniors (Ages 65+) Box office or online: $7.00<br />Children Ages 12 & Under: FREE\n\n</BODY>\n</HTML>

LOCATION:Central Bank Center, 430, West Vine Street, Central Business District, Lexington, Fayette County, Kentucky, 40507, United States
END:VEVENT

END:VCALENDAR
