BEGIN:VCALENDAR
VERSION:2.0
PRODID:-//hacksw/handcal//NONSGML v1.0//EN
BEGIN:VEVENT
UID:7ca738c75a60993ed60be30688f43fc0
DTSTAMP:20260419T203215Z

DTSTART:20260409T120000
DTEND:20260412T180000
SUMMARY:Winnipeg Home + Garden Show 2026
DESCRIPTION:ADMISSION\nBUY EARLY & SAVE $2!\n\nAll tickets are good for any day of the show and includes access to watch all stage presenters.\n\n** No Two Promotions can be combined (this includes a 2-for-1 offer with seniors' pricing, as seniors' pricing is its own promotion.)\n\nAdults (13+)	$15\nOnline Advance Adults (online only until April 2)*	$13\nSeniors (60+)	$11\nOnline Advance Seniors (online only until April 2)*	$9\nHalf Day Ticket (entry after 4pm)	$7.50\nChildren 12 & Under	FREE

X-ALT-DESC;FMTTYPE=text/html:<!DOCTYPE HTML PUBLIC "-//W3C//DTD HTML 3.2//EN">\n<HTML>\n<HEAD>\n<META NAME="Generator" CONTENT="MS Exchange Server version 08.00.0681.000">\n<TITLE></TITLE>\n</HEAD>\n<BODY>\n<!-- Converted from text/rtf format -->\n\nADMISSION<br />BUY EARLY & SAVE $2!<br /><br />All tickets are good for any day of the show and includes access to watch all stage presenters.<br /><br />** No Two Promotions can be combined (this includes a 2-for-1 offer with seniors' pricing, as seniors' pricing is its own promotion.)<br /><br />Adults (13+)	$15<br />Online Advance Adults (online only until April 2)*	$13<br />Seniors (60+)	$11<br />Online Advance Seniors (online only until April 2)*	$9<br />Half Day Ticket (entry after 4pm)	$7.50<br />Children 12 & Under	FREE\n\n</BODY>\n</HTML>

LOCATION:375, York Avenue, South Portage, St. Boniface, Downtown, Winnipeg, Manitoba, R3C 3J3, Canada
END:VEVENT

END:VCALENDAR
