BEGIN:VCALENDAR
VERSION:2.0
PRODID:-//hacksw/handcal//NONSGML v1.0//EN
BEGIN:VEVENT
UID:8484c6923cb9cb76a15590d486d2309e
DTSTAMP:20260419T203211Z

DTSTART:20260414T090000
DTEND:20260415T170000
SUMMARY:Kansas REALTORS® 2026 Spring Governance Conference
DESCRIPTION:When\nApril 14, 2026 - April 15, 2026    \nAll Day

X-ALT-DESC;FMTTYPE=text/html:<!DOCTYPE HTML PUBLIC "-//W3C//DTD HTML 3.2//EN">\n<HTML>\n<HEAD>\n<META NAME="Generator" CONTENT="MS Exchange Server version 08.00.0681.000">\n<TITLE></TITLE>\n</HEAD>\n<BODY>\n<!-- Converted from text/rtf format -->\n\nWhen<br />April 14, 2026 - April 15, 2026    <br />All Day\n\n</BODY>\n</HTML>

LOCATION:Hays, Ellis County, Kansas, 67601, United States
END:VEVENT

END:VCALENDAR
