BEGIN:VCALENDAR
VERSION:2.0
PRODID:-//hacksw/handcal//NONSGML v1.0//EN
BEGIN:VEVENT
UID:bb4addcf06ab7af39ffd0bc85c249d7b
DTSTAMP:20260419T171939Z

DTSTART:20260921T090000
DTEND:20260921T170000
SUMMARY:Kansas REALTORS® 2026 Region 9 Conference
DESCRIPTION:SAVE THE DATE! More information to come.

X-ALT-DESC;FMTTYPE=text/html:<!DOCTYPE HTML PUBLIC "-//W3C//DTD HTML 3.2//EN">\n<HTML>\n<HEAD>\n<META NAME="Generator" CONTENT="MS Exchange Server version 08.00.0681.000">\n<TITLE></TITLE>\n</HEAD>\n<BODY>\n<!-- Converted from text/rtf format -->\n\nSAVE THE DATE! More information to come.\n\n</BODY>\n</HTML>

LOCATION:Hilton St. Louis at the Ballpark, 1, South Broadway, Downtown, Saint Louis, Missouri, 63102, United States
END:VEVENT

END:VCALENDAR
