BEGIN:VCALENDAR
VERSION:2.0
PRODID:-//hacksw/handcal//NONSGML v1.0//EN
BEGIN:VEVENT
UID:f15d2199faf124936ba5a7a287106c64
DTSTAMP:20260419T171000Z

DTSTART:20261007T090000
DTEND:20261009T170000
SUMMARY:2026 KAR Annual Conference
DESCRIPTION:Make sure to mark your calendars for the 2026 Annual Conference! It will be held in Manhattan, KS on October 7-9, 2026. Looking forward to seeing everyone there!

X-ALT-DESC;FMTTYPE=text/html:<!DOCTYPE HTML PUBLIC "-//W3C//DTD HTML 3.2//EN">\n<HTML>\n<HEAD>\n<META NAME="Generator" CONTENT="MS Exchange Server version 08.00.0681.000">\n<TITLE></TITLE>\n</HEAD>\n<BODY>\n<!-- Converted from text/rtf format -->\n\nMake sure to mark your calendars for the 2026 Annual Conference! It will be held in Manhattan, KS on October 7-9, 2026. Looking forward to seeing everyone there!\n\n</BODY>\n</HTML>

LOCATION:Hilton Garden Inn, 410, South 3rd Street, Manhattan, Riley County, Kansas, 66502, United States
END:VEVENT

END:VCALENDAR
