BEGIN:VCALENDAR
VERSION:2.0
PRODID:-//hacksw/handcal//NONSGML v1.0//EN
BEGIN:VEVENT
UID:9255a233b12672b1a8d2606cdb2c5d44
DTSTAMP:20260421T081825Z

DTSTART:20240815T140000
DTEND:20240815T153000
SUMMARY:New Contracts Update Class
DESCRIPTION:Thursday, August 15 · 2:00 PM - 3:30 PM\n\nIN-PERSON EVENT: 10303 E Dry Creek Road #100, Englewood CO 80112\n\n1 FREE CE Credit\n\nThis Free CE class covers all the changes to the purchase and sale contract, plus all the broker compensation changes.\nWe’ll discuss the three different methods that buyer brokers can get paid under the new framework, the mechanics of completing listing agreements, compensation agreements and the contract, as well as Dos and Don’ts to stay compliant.\n\n1 Hour CE for in-person participants.\n\nClass taught by Greg Parham

X-ALT-DESC;FMTTYPE=text/html:<!DOCTYPE HTML PUBLIC "-//W3C//DTD HTML 3.2//EN">\n<HTML>\n<HEAD>\n<META NAME="Generator" CONTENT="MS Exchange Server version 08.00.0681.000">\n<TITLE></TITLE>\n</HEAD>\n<BODY>\n<!-- Converted from text/rtf format -->\n\nThursday, August 15 · 2:00 PM - 3:30 PM<br /><br />IN-PERSON EVENT: 10303 E Dry Creek Road #100, Englewood CO 80112<br /><br />1 FREE CE Credit<br /><br />This Free CE class covers all the changes to the purchase and sale contract, plus all the broker compensation changes.<br />We’ll discuss the three different methods that buyer brokers can get paid under the new framework, the mechanics of completing listing agreements, compensation agreements and the contract, as well as Dos and Don’ts to stay compliant.<br /><br />1 Hour CE for in-person participants.<br /><br />Class taught by Greg Parham\n\n</BODY>\n</HTML>

LOCATION:10303, East Dry Creek Road, Centennial, Arapahoe County, Colorado, 80112, United States
END:VEVENT

END:VCALENDAR
