BEGIN:VCALENDAR
VERSION:2.0
PRODID:-//hacksw/handcal//NONSGML v1.0//EN
BEGIN:VEVENT
UID:8c1f697dde01f2d8127ef220c62b4137
DTSTAMP:20260421T082015Z

DTSTART:20240807T080000
DTEND:20240807T160000
SUMMARY:2024 Contracts and Forms Newly Revised & Updated Document Review Webinar
DESCRIPTION:Wednesday, August 7th from 2:00 PM to 4:00 PM\nPresented by Beth Anne Demeter of A+ Real Estate School\n2 CE for Colorado Agents | $20 Per Person\n\nStay ahead of the contract game when it comes to critical contract & form updates for August 2024 reflecting the National Association of Realtors (NAR) Settlement. Changes are in CTM as of August 1st and required for use as of August 15th so make sure you have an in-depth understanding of changes, requirements and best practices so you can navigate the changes and answer your clients’ questions! After registering, you will be provided with a Zoom link in the confirmation email.

X-ALT-DESC;FMTTYPE=text/html:<!DOCTYPE HTML PUBLIC "-//W3C//DTD HTML 3.2//EN">\n<HTML>\n<HEAD>\n<META NAME="Generator" CONTENT="MS Exchange Server version 08.00.0681.000">\n<TITLE></TITLE>\n</HEAD>\n<BODY>\n<!-- Converted from text/rtf format -->\n\nWednesday, August 7th from 2:00 PM to 4:00 PM<br />Presented by Beth Anne Demeter of A+ Real Estate School<br />2 CE for Colorado Agents | $20 Per Person<br /><br />Stay ahead of the contract game when it comes to critical contract & form updates for August 2024 reflecting the National Association of Realtors (NAR) Settlement. Changes are in CTM as of August 1st and required for use as of August 15th so make sure you have an in-depth understanding of changes, requirements and best practices so you can navigate the changes and answer your clients’ questions! After registering, you will be provided with a Zoom link in the confirmation email.\n\n</BODY>\n</HTML>

LOCATION:
END:VEVENT

END:VCALENDAR
