BEGIN:VCALENDAR
VERSION:2.0
PRODID:-//hacksw/handcal//NONSGML v1.0//EN
BEGIN:VEVENT
UID:6ff6fd7b8672aa0754d17f5e28477680
DTSTAMP:20260419T133136Z

DTSTART:20240711T090000
DTEND:20240711T120000
SUMMARY:Antitrust: Using the Division’s Forms
DESCRIPTION:This class will provide you with the knowledge and tools to stay compliant while enhancing your business practices.\n\nYou will gain a comprehensive understanding of the legal themes and practice changes that have motivated the revisions to the CREC forms. We will explore the impacts of the old system on buyer-side commissions and broker practices, and discuss the detailed practice changes outlined in the Settlement Agreement, highlighting their intended benefits such as lower buyer-side commissions and increased commission negotiations.\n\nKey Takeaways:\n\n-Understanding Legal Themes and Practice Changes\n-Navigating Buyer-Side and Seller-Side Agreements\n-Implementing Colorado Division of Real Estate’s Antitrust Motivated Form Changes\n-Using the Exclusive Right-to-Sell Listing Contract and Contract to Buy and Sell Real Estate\n-Future Speculations\n\n\nThis class will empower you to stay compliant while optimizing your business practices in a rapidly evolving legal landscape.\n\n3 CE Credits $40.00\n07/11/2024\n9:00 am – 12:00 pm\nAntitrust: Using the Division’s Forms\nElevations Credit Union\n1 Environmental Way\nBroomfield, CO 80021\n

X-ALT-DESC;FMTTYPE=text/html:<!DOCTYPE HTML PUBLIC "-//W3C//DTD HTML 3.2//EN">\n<HTML>\n<HEAD>\n<META NAME="Generator" CONTENT="MS Exchange Server version 08.00.0681.000">\n<TITLE></TITLE>\n</HEAD>\n<BODY>\n<!-- Converted from text/rtf format -->\n\nThis class will provide you with the knowledge and tools to stay compliant while enhancing your business practices.<br /><br />You will gain a comprehensive understanding of the legal themes and practice changes that have motivated the revisions to the CREC forms. We will explore the impacts of the old system on buyer-side commissions and broker practices, and discuss the detailed practice changes outlined in the Settlement Agreement, highlighting their intended benefits such as lower buyer-side commissions and increased commission negotiations.<br /><br />Key Takeaways:<br /><br />-Understanding Legal Themes and Practice Changes<br />-Navigating Buyer-Side and Seller-Side Agreements<br />-Implementing Colorado Division of Real Estate’s Antitrust Motivated Form Changes<br />-Using the Exclusive Right-to-Sell Listing Contract and Contract to Buy and Sell Real Estate<br />-Future Speculations<br /><br /><br />This class will empower you to stay compliant while optimizing your business practices in a rapidly evolving legal landscape.<br /><br />3 CE Credits $40.00<br />07/11/2024<br />9:00 am – 12:00 pm<br />Antitrust: Using the Division’s Forms<br />Elevations Credit Union<br />1 Environmental Way<br />Broomfield, CO 80021<br />\n\n</BODY>\n</HTML>

LOCATION:1, Environmental Way, Interlocken, Broomfield, Colorado, 80021, United States
END:VEVENT

END:VCALENDAR
