BEGIN:VCALENDAR
VERSION:2.0
PRODID:-//hacksw/handcal//NONSGML v1.0//EN
BEGIN:VEVENT
UID:ab3efc38f9e5dc624426faba0d988902
DTSTAMP:20260419T133939Z

DTSTART:20240612T110000
DTEND:20240612T120000
SUMMARY:So You Want To Be A Hard Money Lender
DESCRIPTION:Wednesday, June 12 · 11:00 AM - Noon\nIN-PERSON EVENT: 1333 W 120th Ave Suite 116, Westminster CO 80234\n\nSo You Want To Be A Hard Money Lender: What You Need to Know to Protect Your Assets\nPrivate lending to fix-and-flippers can be a great way to earn interest on your cash. However, nobody wants to lose their hard-earned cash to a bad project.\n\nThis class focuses on best practices for hard money lending, including proper due diligence, securing your investment, loan structure, and disbursement practices.\n\n\nClass Taught by Greg Parham

X-ALT-DESC;FMTTYPE=text/html:<!DOCTYPE HTML PUBLIC "-//W3C//DTD HTML 3.2//EN">\n<HTML>\n<HEAD>\n<META NAME="Generator" CONTENT="MS Exchange Server version 08.00.0681.000">\n<TITLE></TITLE>\n</HEAD>\n<BODY>\n<!-- Converted from text/rtf format -->\n\nWednesday, June 12 · 11:00 AM - Noon<br />IN-PERSON EVENT: 1333 W 120th Ave Suite 116, Westminster CO 80234<br /><br />So You Want To Be A Hard Money Lender: What You Need to Know to Protect Your Assets<br />Private lending to fix-and-flippers can be a great way to earn interest on your cash. However, nobody wants to lose their hard-earned cash to a bad project.<br /><br />This class focuses on best practices for hard money lending, including proper due diligence, securing your investment, loan structure, and disbursement practices.<br /><br /><br />Class Taught by Greg Parham\n\n</BODY>\n</HTML>

LOCATION:1333, West 120th Avenue, Westminster, Adams County, Colorado, 80234, United States
END:VEVENT

END:VCALENDAR
