BEGIN:VCALENDAR
VERSION:2.0
PRODID:-//hacksw/handcal//NONSGML v1.0//EN
BEGIN:VEVENT
UID:93a392eb2b46bbf44a3bdbf484aff2ee
DTSTAMP:20260419T115559Z

DTSTART:20240528T110000
DTEND:20240528T130000
SUMMARY:Increase Real Estate Sales Using Down Payment Assistance and Strategic Financing Class
DESCRIPTION:Tuesday, May 28th from 11:00 AM to 1:00 PM\nPresented by Dayle Sproul of CMG Home Loans\nFirst Integrity Title Westminster Office\n12050 N Pecos St – Suite 305\nWestminster, CO 80234\n2 CE for Colorado Agents | No Cost\n\nJoin Dayle Sproul of CMG Home Loans for a 2 CE lunch ‘n learn where you’ll gain invaluable insights into leveraging down payment assistance programs to open doors for a wider pool of buyers, empowering them to achieve their homeownership dreams. Dayle will also discuss a broader range of strategic financing to attract more buyers and sell homes faster. From maximizing buyer affordability to enhancing your listings’ marketability, this class will equip you with the tools and knowledge to stand out in today’s competitive real estate market. Enroll now and unlock the keys to real estate success! Space is limited!

X-ALT-DESC;FMTTYPE=text/html:<!DOCTYPE HTML PUBLIC "-//W3C//DTD HTML 3.2//EN">\n<HTML>\n<HEAD>\n<META NAME="Generator" CONTENT="MS Exchange Server version 08.00.0681.000">\n<TITLE></TITLE>\n</HEAD>\n<BODY>\n<!-- Converted from text/rtf format -->\n\nTuesday, May 28th from 11:00 AM to 1:00 PM<br />Presented by Dayle Sproul of CMG Home Loans<br />First Integrity Title Westminster Office<br />12050 N Pecos St – Suite 305<br />Westminster, CO 80234<br />2 CE for Colorado Agents | No Cost<br /><br />Join Dayle Sproul of CMG Home Loans for a 2 CE lunch ‘n learn where you’ll gain invaluable insights into leveraging down payment assistance programs to open doors for a wider pool of buyers, empowering them to achieve their homeownership dreams. Dayle will also discuss a broader range of strategic financing to attract more buyers and sell homes faster. From maximizing buyer affordability to enhancing your listings’ marketability, this class will equip you with the tools and knowledge to stand out in today’s competitive real estate market. Enroll now and unlock the keys to real estate success! Space is limited!\n\n</BODY>\n</HTML>

LOCATION:
END:VEVENT

END:VCALENDAR
