BEGIN:VCALENDAR
VERSION:2.0
PRODID:-//hacksw/handcal//NONSGML v1.0//EN
BEGIN:VEVENT
UID:85af9916b591e835acb459b2708d1a5d
DTSTAMP:20260421T081958Z

DTSTART:20240515T140000
DTEND:20240515T160000
SUMMARY:Intermediate CTM eContracts Webinar - May 15
DESCRIPTION:Wednesday, May 15th from 2:00 PM to 4:00 PM\nPresented by CTM eContracts\n0 CE | No Cost or 2 CE Credits for Colorado Agents | $20 Per Person\n\nIn this online training, we will cover the following topics and processes:\nUsing time management tools on the main and detailed dashboards, generating reports for quarterly taxes and tracking marketing strategies, creating and using parent contract templates, completing eContacts and closing MLS info sheets, finding and using HOA, attorney, appraiser, and title databases and more! To register, please login to your MRI Training Academy account and register for the free or paid 2 CE version.

X-ALT-DESC;FMTTYPE=text/html:<!DOCTYPE HTML PUBLIC "-//W3C//DTD HTML 3.2//EN">\n<HTML>\n<HEAD>\n<META NAME="Generator" CONTENT="MS Exchange Server version 08.00.0681.000">\n<TITLE></TITLE>\n</HEAD>\n<BODY>\n<!-- Converted from text/rtf format -->\n\nWednesday, May 15th from 2:00 PM to 4:00 PM<br />Presented by CTM eContracts<br />0 CE | No Cost or 2 CE Credits for Colorado Agents | $20 Per Person<br /><br />In this online training, we will cover the following topics and processes:<br />Using time management tools on the main and detailed dashboards, generating reports for quarterly taxes and tracking marketing strategies, creating and using parent contract templates, completing eContacts and closing MLS info sheets, finding and using HOA, attorney, appraiser, and title databases and more! To register, please login to your MRI Training Academy account and register for the free or paid 2 CE version.\n\n</BODY>\n</HTML>

LOCATION:
END:VEVENT

END:VCALENDAR
