BEGIN:VCALENDAR
VERSION:2.0
PRODID:-//hacksw/handcal//NONSGML v1.0//EN
BEGIN:VEVENT
UID:143bec6e2a686fe3670b5bb4769d09c0
DTSTAMP:20260419T133238Z

DTSTART:20240507T100000
DTEND:20240507T120000
SUMMARY:Purchasing with a Reverse Mortgage Class - May 7
DESCRIPTION:Tuesday, May 7th from 10:00 AM to 12:00 PM\nPresented by Brady Mullen of American Liberty Mortgage\nFirst Integrity Title Glendale Office\n501 S Cherry St – Suite 250\nGlendale, CO 80246\n2 CE for Colorado Agents | No Cost\n\nJoin Brady Mullen, personal finance and real estate expert at American Liberty Mortgage for a 2-hour course on purchasing with a reverse mortgage. The class will provide a fundamental understanding of reverse mortgages and how they can be used to help make the right home more affordable. Agents who attend will become equipped with a tool that is quickly becoming a staple for one of the largest demographics in history, identify opportunities to help clients right-size or relocate for their retirement years, and add knowledge to your expertise that will separate you from your competitors.\nRegister today – space is limited!

X-ALT-DESC;FMTTYPE=text/html:<!DOCTYPE HTML PUBLIC "-//W3C//DTD HTML 3.2//EN">\n<HTML>\n<HEAD>\n<META NAME="Generator" CONTENT="MS Exchange Server version 08.00.0681.000">\n<TITLE></TITLE>\n</HEAD>\n<BODY>\n<!-- Converted from text/rtf format -->\n\nTuesday, May 7th from 10:00 AM to 12:00 PM<br />Presented by Brady Mullen of American Liberty Mortgage<br />First Integrity Title Glendale Office<br />501 S Cherry St – Suite 250<br />Glendale, CO 80246<br />2 CE for Colorado Agents | No Cost<br /><br />Join Brady Mullen, personal finance and real estate expert at American Liberty Mortgage for a 2-hour course on purchasing with a reverse mortgage. The class will provide a fundamental understanding of reverse mortgages and how they can be used to help make the right home more affordable. Agents who attend will become equipped with a tool that is quickly becoming a staple for one of the largest demographics in history, identify opportunities to help clients right-size or relocate for their retirement years, and add knowledge to your expertise that will separate you from your competitors.<br />Register today – space is limited!\n\n</BODY>\n</HTML>

LOCATION:South Cherry Street, Denver, Colorado, 80222, United States
END:VEVENT

END:VCALENDAR
