BEGIN:VCALENDAR
VERSION:2.0
PRODID:-//hacksw/handcal//NONSGML v1.0//EN
BEGIN:VEVENT
UID:54d806bb7d67eddc08e541406b57bee7
DTSTAMP:20260419T115751Z

DTSTART:20240420T090000
DTEND:20240421T160000
SUMMARY:Southern Tier Home & Garden Show 2024
DESCRIPTION:The Southern Tier Home & Garden Show will be held on Apr 20th-21st, 2024 in Vestal, NY. This Vestal home & garden show is held at Binghamton University Events Center and hosted by Home Builders & Remodelers Association of Southern Tier.

X-ALT-DESC;FMTTYPE=text/html:<!DOCTYPE HTML PUBLIC "-//W3C//DTD HTML 3.2//EN">\n<HTML>\n<HEAD>\n<META NAME="Generator" CONTENT="MS Exchange Server version 08.00.0681.000">\n<TITLE></TITLE>\n</HEAD>\n<BODY>\n<!-- Converted from text/rtf format -->\n\nThe Southern Tier Home & Garden Show will be held on Apr 20th-21st, 2024 in Vestal, NY. This Vestal home & garden show is held at Binghamton University Events Center and hosted by Home Builders & Remodelers Association of Southern Tier.\n\n</BODY>\n</HTML>

LOCATION:State University of New York at Binghamton, 4400, Vestal Parkway East, Willow Point, City of Binghamton, Broome County, New York, 13902, United States
END:VEVENT

END:VCALENDAR
