BEGIN:VCALENDAR
VERSION:2.0
PRODID:-//hacksw/handcal//NONSGML v1.0//EN
BEGIN:VEVENT
UID:317d94d33cd5e627ce6d7fbe461c6853
DTSTAMP:20260419T133638Z

DTSTART:20240323T100000
DTEND:20240323T160000
SUMMARY:Bloomington/Edina Home Show 2024
DESCRIPTION:Are you planning a home improvement Project? The Bloomington & Edina Home Show is the perfect place to get started!\nFrom remodeling, decks, and windows to landscaping, bathrooms, driveways, and everything in-between, you'll find what you're looking for at the Bloomington/Edina Home Show!\nHosted twice each year, the Bloomington/Edina Home Show is your number one stop to find resources, savings, and professionals to get the job done right! Meet and learn from Twin Cities' best home pros in a casual, comfortable, no-pressure environment.\nSee up to 120 home improvement professionals who can help you with any home improvement project inside your home or out, including: landscaping, gardening, patios, fencing, decks, heating and air, solar, insulation, remodeling, new construction, plumbing, kitchens, baths, closets, home furnishings, appliances, lighting, roofing, painting, gutters, windows, doors, siding, tile, stone, granite, and so much and more\nFeaturing tons of giveaways all day, every hour, on the hour. The first 100 attendees will receive a goodie bag with special items donated from our participating Exhibitors. Come early, stay late!\nThe Bloomington/Edina Home Show will be held on Mar 23rd, 2024 in Minneapolis, MN. This Minneapolis home show is held at Bloomington Double Tree and hosted by Minnesota Home Shows.

X-ALT-DESC;FMTTYPE=text/html:<!DOCTYPE HTML PUBLIC "-//W3C//DTD HTML 3.2//EN">\n<HTML>\n<HEAD>\n<META NAME="Generator" CONTENT="MS Exchange Server version 08.00.0681.000">\n<TITLE></TITLE>\n</HEAD>\n<BODY>\n<!-- Converted from text/rtf format -->\n\nAre you planning a home improvement Project? The Bloomington & Edina Home Show is the perfect place to get started!<br />From remodeling, decks, and windows to landscaping, bathrooms, driveways, and everything in-between, you'll find what you're looking for at the Bloomington/Edina Home Show!<br />Hosted twice each year, the Bloomington/Edina Home Show is your number one stop to find resources, savings, and professionals to get the job done right! Meet and learn from Twin Cities' best home pros in a casual, comfortable, no-pressure environment.<br />See up to 120 home improvement professionals who can help you with any home improvement project inside your home or out, including: landscaping, gardening, patios, fencing, decks, heating and air, solar, insulation, remodeling, new construction, plumbing, kitchens, baths, closets, home furnishings, appliances, lighting, roofing, painting, gutters, windows, doors, siding, tile, stone, granite, and so much and more<br />Featuring tons of giveaways all day, every hour, on the hour. The first 100 attendees will receive a goodie bag with special items donated from our participating Exhibitors. Come early, stay late!<br />The Bloomington/Edina Home Show will be held on Mar 23rd, 2024 in Minneapolis, MN. This Minneapolis home show is held at Bloomington Double Tree and hosted by Minnesota Home Shows.\n\n</BODY>\n</HTML>

LOCATION:DoubleTree by Hilton Hotel Bloomington - Minneapolis South, 7800, Normandale Boulevard, Cahill, Bloomington, Hennepin County, Minnesota, 55439, United States
END:VEVENT

END:VCALENDAR
