BEGIN:VCALENDAR
VERSION:2.0
PRODID:-//hacksw/handcal//NONSGML v1.0//EN
BEGIN:VEVENT
UID:d7ee4f724ee480d7ed4bfe60901ea44c
DTSTAMP:20260419T133640Z

DTSTART:20240304T110000
DTEND:20240304T120000
SUMMARY:Legal Insights with Greg
DESCRIPTION:Join Greg Parham, a seasoned attorney specializing in real estate law, for expert insights tailored specifically for real estate brokers\n\n- Every Monday\n\n- Get clarity on complex residential real estate transactions and stay ahead of regulatory compliance issues.\n\n- Explore in-depth discussions on legal strategies, industry trends, and best practices to help real estate professionals navigate the intricacies of their profession.\n\n- Whether you're a seasoned broker or just starting out, tune in to gain valuable knowledge and actionable tips to enhance your practice and ensure compliance with regulatory standards.\n\n- Don't miss this essential resource for real estate brokers seeking reliable legal guidance and staying informed in a rapidly evolving industry.\n\nClass taught by Greg Parham

X-ALT-DESC;FMTTYPE=text/html:<!DOCTYPE HTML PUBLIC "-//W3C//DTD HTML 3.2//EN">\n<HTML>\n<HEAD>\n<META NAME="Generator" CONTENT="MS Exchange Server version 08.00.0681.000">\n<TITLE></TITLE>\n</HEAD>\n<BODY>\n<!-- Converted from text/rtf format -->\n\nJoin Greg Parham, a seasoned attorney specializing in real estate law, for expert insights tailored specifically for real estate brokers<br /><br />- Every Monday<br /><br />- Get clarity on complex residential real estate transactions and stay ahead of regulatory compliance issues.<br /><br />- Explore in-depth discussions on legal strategies, industry trends, and best practices to help real estate professionals navigate the intricacies of their profession.<br /><br />- Whether you're a seasoned broker or just starting out, tune in to gain valuable knowledge and actionable tips to enhance your practice and ensure compliance with regulatory standards.<br /><br />- Don't miss this essential resource for real estate brokers seeking reliable legal guidance and staying informed in a rapidly evolving industry.<br /><br />Class taught by Greg Parham\n\n</BODY>\n</HTML>

LOCATION:
END:VEVENT

END:VCALENDAR
