BEGIN:VCALENDAR
VERSION:2.0
PRODID:-//hacksw/handcal//NONSGML v1.0//EN
BEGIN:VEVENT
UID:9fe0070b59db8c5916afd7eaf49ae323
DTSTAMP:20260419T115256Z

DTSTART:20240308T150000
DTEND:20240310T150000
SUMMARY:Mankato Home Show 2024
DESCRIPTION:Radio Mankato will be hosting the Mankato Home Show, formerly known as the Southern Minnesota Home & Builders Show.\n\nThe Mankato Home Show will be held on Mar 8th-10th, 2024 in Mankato, MN. This Mankato home show is held at Mayo Clinic Health System Event Center and hosted by Mankato Home Show.

X-ALT-DESC;FMTTYPE=text/html:<!DOCTYPE HTML PUBLIC "-//W3C//DTD HTML 3.2//EN">\n<HTML>\n<HEAD>\n<META NAME="Generator" CONTENT="MS Exchange Server version 08.00.0681.000">\n<TITLE></TITLE>\n</HEAD>\n<BODY>\n<!-- Converted from text/rtf format -->\n\nRadio Mankato will be hosting the Mankato Home Show, formerly known as the Southern Minnesota Home & Builders Show.<br /><br />The Mankato Home Show will be held on Mar 8th-10th, 2024 in Mankato, MN. This Mankato home show is held at Mayo Clinic Health System Event Center and hosted by Mankato Home Show.\n\n</BODY>\n</HTML>

LOCATION:Mayo Clinic Health Systems Event Center, 1, Civic Center Plaza, Mankato, Blue Earth County, Minnesota, 56001, United States
END:VEVENT

END:VCALENDAR
