BEGIN:VCALENDAR
VERSION:2.0
PRODID:-//hacksw/handcal//NONSGML v1.0//EN
BEGIN:VEVENT
UID:a15bbde7cde28fe7de1cb72e46a29b5a
DTSTAMP:20260419T173026Z

DTSTART:20240309T090000
DTEND:20240310T150000
SUMMARY:Grand Traverse Home Builders Expo 2024
DESCRIPTION:The Grand Traverse Area Home Expo is one of the largest building industry events in Northern Michigan, drawing residential construction industry professionals to showcase their products and /or services in just one weekend!\n\nThe Grand Traverse Home Builders Expo will be held on Mar 9th-10th, 2024 in Acme, MI. This Acme home show is held at Grand Traverse Resort and hosted by Home Builders Association of Grand Traverse.

X-ALT-DESC;FMTTYPE=text/html:<!DOCTYPE HTML PUBLIC "-//W3C//DTD HTML 3.2//EN">\n<HTML>\n<HEAD>\n<META NAME="Generator" CONTENT="MS Exchange Server version 08.00.0681.000">\n<TITLE></TITLE>\n</HEAD>\n<BODY>\n<!-- Converted from text/rtf format -->\n\nThe Grand Traverse Area Home Expo is one of the largest building industry events in Northern Michigan, drawing residential construction industry professionals to showcase their products and /or services in just one weekend!<br /><br />The Grand Traverse Home Builders Expo will be held on Mar 9th-10th, 2024 in Acme, MI. This Acme home show is held at Grand Traverse Resort and hosted by Home Builders Association of Grand Traverse.\n\n</BODY>\n</HTML>

LOCATION:Acme, Acme Township, Grand Traverse County, Michigan, 49610, United States
END:VEVENT

END:VCALENDAR
