BEGIN:VCALENDAR
VERSION:2.0
PRODID:-//hacksw/handcal//NONSGML v1.0//EN
BEGIN:VEVENT
UID:8b7fd3f7e95a31687311379e5af8e5de
DTSTAMP:20260419T171839Z

DTSTART:20240308T120000
DTEND:20240310T160000
SUMMARY:Kalamazoo Home and Garden Expo 2024
DESCRIPTION:Whether your home is in need of an update, a full renovation, or you’re just looking for some inspiration – the Kalamazoo Home & Expo has something for everyone. From outdoor living, landscaping, home automation, security, remodeling, design and more – you won’t want to miss what’s new in home improvement.\n\nThe Kalamazoo Home & Garden Expo features a wide variety of local vendors in home, outdoor living, beauty, decor, DIY and more. Get multiple quotes on products and services all in one place and take advantage of exclusive show savings.\n\nThe Kalamazoo Home and Garden Expo will be held on Mar 8th-10th, 2024 in Kalamazoo, MI. This Kalamazoo home & garden show is held at Kalamazoo County Expo Center and hosted by Home Builders Association of West Michigan.

X-ALT-DESC;FMTTYPE=text/html:<!DOCTYPE HTML PUBLIC "-//W3C//DTD HTML 3.2//EN">\n<HTML>\n<HEAD>\n<META NAME="Generator" CONTENT="MS Exchange Server version 08.00.0681.000">\n<TITLE></TITLE>\n</HEAD>\n<BODY>\n<!-- Converted from text/rtf format -->\n\nWhether your home is in need of an update, a full renovation, or you’re just looking for some inspiration – the Kalamazoo Home & Expo has something for everyone. From outdoor living, landscaping, home automation, security, remodeling, design and more – you won’t want to miss what’s new in home improvement.<br /><br />The Kalamazoo Home & Garden Expo features a wide variety of local vendors in home, outdoor living, beauty, decor, DIY and more. Get multiple quotes on products and services all in one place and take advantage of exclusive show savings.<br /><br />The Kalamazoo Home and Garden Expo will be held on Mar 8th-10th, 2024 in Kalamazoo, MI. This Kalamazoo home & garden show is held at Kalamazoo County Expo Center and hosted by Home Builders Association of West Michigan.\n\n</BODY>\n</HTML>

LOCATION:2900, Lake Street, Kalamazoo Charter Township, Kalamazoo County, Michigan, 49048, United States
END:VEVENT

END:VCALENDAR
