BEGIN:VCALENDAR
VERSION:2.0
PRODID:-//hacksw/handcal//NONSGML v1.0//EN
BEGIN:VEVENT
UID:d62601413fabfc47ac38cd3fde696944
DTSTAMP:20260419T133510Z

DTSTART:20240308T160000
DTEND:20240310T160000
SUMMARY:Worcester Home Show 2024
DESCRIPTION:The Worcester Spring Home Show is Jenks Productions newest home show in New England. Jenks Productions Established in 1979, it is sure to be another great home improvement show!\n\nWell over 100 vendor exhibits, representing all the finest and most innovative companies in the home improvement industry, will gather at the DCU Center in Worcester Massachusetts for this major spring home trade show event. Talk to the home improvement expertsand find just the right designs at just the right price for your budget.\n\nThe Worcester Home Show will be held on Mar 8th-10th, 2024 in Worcester, MA. This Worcester home show is held at DCU Center and hosted by Jenks Productions.

X-ALT-DESC;FMTTYPE=text/html:<!DOCTYPE HTML PUBLIC "-//W3C//DTD HTML 3.2//EN">\n<HTML>\n<HEAD>\n<META NAME="Generator" CONTENT="MS Exchange Server version 08.00.0681.000">\n<TITLE></TITLE>\n</HEAD>\n<BODY>\n<!-- Converted from text/rtf format -->\n\nThe Worcester Spring Home Show is Jenks Productions newest home show in New England. Jenks Productions Established in 1979, it is sure to be another great home improvement show!<br /><br />Well over 100 vendor exhibits, representing all the finest and most innovative companies in the home improvement industry, will gather at the DCU Center in Worcester Massachusetts for this major spring home trade show event. Talk to the home improvement expertsand find just the right designs at just the right price for your budget.<br /><br />The Worcester Home Show will be held on Mar 8th-10th, 2024 in Worcester, MA. This Worcester home show is held at DCU Center and hosted by Jenks Productions.\n\n</BODY>\n</HTML>

LOCATION:50, Foster Street, Southbridge, Worcester County, Massachusetts, 01550, United States
END:VEVENT

END:VCALENDAR
