BEGIN:VCALENDAR
VERSION:2.0
PRODID:-//hacksw/handcal//NONSGML v1.0//EN
BEGIN:VEVENT
UID:24355e315e5e945b4158139b4c19de44
DTSTAMP:20260419T152742Z

DTSTART:20240420T090000
DTEND:20240421T160000
SUMMARY:Augusta Maine Home Show 2024
DESCRIPTION:Get Design ideas for your home projects & connect with local pros at the Maine Home Show in Augusta.\n\nThe Augusta Maine Home Show will be held on Apr 20th-21st, 2024 in Augusta, ME. This Augusta home show is held at Augusta Armory and hosted by Maine Home Show.

X-ALT-DESC;FMTTYPE=text/html:<!DOCTYPE HTML PUBLIC "-//W3C//DTD HTML 3.2//EN">\n<HTML>\n<HEAD>\n<META NAME="Generator" CONTENT="MS Exchange Server version 08.00.0681.000">\n<TITLE></TITLE>\n</HEAD>\n<BODY>\n<!-- Converted from text/rtf format -->\n\nGet Design ideas for your home projects & connect with local pros at the Maine Home Show in Augusta.<br /><br />The Augusta Maine Home Show will be held on Apr 20th-21st, 2024 in Augusta, ME. This Augusta home show is held at Augusta Armory and hosted by Maine Home Show.\n\n</BODY>\n</HTML>

LOCATION:Augusta Armory, 179, Western Avenue (West), Augusta, Kennebec County, Maine, 04330, United States
END:VEVENT

END:VCALENDAR
