BEGIN:VCALENDAR
VERSION:2.0
PRODID:-//hacksw/handcal//NONSGML v1.0//EN
BEGIN:VEVENT
UID:1de02f6535e6a6728f8d989534067083
DTSTAMP:20260419T152754Z

DTSTART:20240309T100000
DTEND:20240317T170000
SUMMARY:Indiana Flower and Patio Show 2024
DESCRIPTION:The Indiana Flower & Patio Show is a vibrant marketplace where you can shop for home-related products and services, experience stunning displays to help inspire your next home project, connect with industry experts, and enjoy informative presentations from renowned local and international home professionals.\n\nWhether you’re joining us with a specific project in mind or just looking for some inspiration, our local home professionals have you covered. With 200+ booths to explore and several unique feature displays to enjoy, this is a valuable event for all homeowners.\n\nThe Indiana Flower and Patio Show will be held on Mar 9th-17th, 2024 in Indianapolis, IN. This Indianapolis home show is held at Indiana State Fairgrounds and hosted by Indiana Flower & Patio Show.

X-ALT-DESC;FMTTYPE=text/html:<!DOCTYPE HTML PUBLIC "-//W3C//DTD HTML 3.2//EN">\n<HTML>\n<HEAD>\n<META NAME="Generator" CONTENT="MS Exchange Server version 08.00.0681.000">\n<TITLE></TITLE>\n</HEAD>\n<BODY>\n<!-- Converted from text/rtf format -->\n\nThe Indiana Flower & Patio Show is a vibrant marketplace where you can shop for home-related products and services, experience stunning displays to help inspire your next home project, connect with industry experts, and enjoy informative presentations from renowned local and international home professionals.<br /><br />Whether you’re joining us with a specific project in mind or just looking for some inspiration, our local home professionals have you covered. With 200+ booths to explore and several unique feature displays to enjoy, this is a valuable event for all homeowners.<br /><br />The Indiana Flower and Patio Show will be held on Mar 9th-17th, 2024 in Indianapolis, IN. This Indianapolis home show is held at Indiana State Fairgrounds and hosted by Indiana Flower & Patio Show.\n\n</BODY>\n</HTML>

LOCATION:1202, East 38th Street, Indianapolis, Marion County, Indiana, 46205, United States
END:VEVENT

END:VCALENDAR
