BEGIN:VCALENDAR
VERSION:2.0
PRODID:-//hacksw/handcal//NONSGML v1.0//EN
BEGIN:VEVENT
UID:e45e953199415809f0ad46f137cb4a88
DTSTAMP:20260419T134842Z

DTSTART:20240302T090000
DTEND:20240303T160000
SUMMARY:La Porte County Home & Lifestyle Expo 2024
DESCRIPTION:The La Porte County Home & Lifestyle Expo will be held on Mar 2nd-3rd, 2024 in Michigan City, IN. This Michigan City home show is held at Blue Chip Casino Hotel and hosted by Home Builders Association of LaPorte County.

X-ALT-DESC;FMTTYPE=text/html:<!DOCTYPE HTML PUBLIC "-//W3C//DTD HTML 3.2//EN">\n<HTML>\n<HEAD>\n<META NAME="Generator" CONTENT="MS Exchange Server version 08.00.0681.000">\n<TITLE></TITLE>\n</HEAD>\n<BODY>\n<!-- Converted from text/rtf format -->\n\nThe La Porte County Home & Lifestyle Expo will be held on Mar 2nd-3rd, 2024 in Michigan City, IN. This Michigan City home show is held at Blue Chip Casino Hotel and hosted by Home Builders Association of LaPorte County.\n\n</BODY>\n</HTML>

LOCATION:Blue Chip Casino, 777, Blue Chip Drive, Michigan City, LaPorte County, Indiana, 46360, United States
END:VEVENT

END:VCALENDAR
