BEGIN:VCALENDAR
VERSION:2.0
PRODID:-//hacksw/handcal//NONSGML v1.0//EN
BEGIN:VEVENT
UID:c3869bbdb29b1aeba12263944c426b9d
DTSTAMP:20260420T033526Z

DTSTART:20240427T100000
DTEND:20240428T170000
SUMMARY:Georgia Tiny House Festival 2024
DESCRIPTION:The Georgia Tiny Home Festival will have all the diverse assortments of tiny residences, micro homes, work shops, presentations, vendors, food concessions, entertainment, and children’s activities United Tiny House’s tiny house festivals are known for.\n\nThe Georgia Tiny House Festival will be held on Apr 27th-28th, 2024 in Madison, GA. This Madison home show is held at Madison Lion's Club Fairgrounds and hosted by United Tiny House.

X-ALT-DESC;FMTTYPE=text/html:<!DOCTYPE HTML PUBLIC "-//W3C//DTD HTML 3.2//EN">\n<HTML>\n<HEAD>\n<META NAME="Generator" CONTENT="MS Exchange Server version 08.00.0681.000">\n<TITLE></TITLE>\n</HEAD>\n<BODY>\n<!-- Converted from text/rtf format -->\n\nThe Georgia Tiny Home Festival will have all the diverse assortments of tiny residences, micro homes, work shops, presentations, vendors, food concessions, entertainment, and children’s activities United Tiny House’s tiny house festivals are known for.<br /><br />The Georgia Tiny House Festival will be held on Apr 27th-28th, 2024 in Madison, GA. This Madison home show is held at Madison Lion's Club Fairgrounds and hosted by United Tiny House.\n\n</BODY>\n</HTML>

LOCATION:Madison, Morgan County, Georgia, United States
END:VEVENT

END:VCALENDAR
