BEGIN:VCALENDAR
VERSION:2.0
PRODID:-//hacksw/handcal//NONSGML v1.0//EN
BEGIN:VEVENT
UID:ad469bcbe2f161a5277192ee0aed1565
DTSTAMP:20260419T133638Z

DTSTART:20240323T100000
DTEND:20240324T160000
SUMMARY:Tampa Home Show - Spring 2024
DESCRIPTION:At the Tampa Home Show you will find Builders, Contractors, Kitchens, Baths, Garden Displays, Landscapers, Pools, Spas, Security Systems, Garage Doors, Driveways, Windows, Solar, and much more.\n\nFor one weekend, see wall-to-wall displays and exhibits of the latest trends in home improvement. Most importantly you’ll have the opportunity to speak directly with experts. You will receive the advice and inspiration you need to turn your dream home or other home improvement project into a reality. Our customers know that meeting their potential contractor face-to-face is the most valuable way to select a professional. Get reliable expertise for upcoming home improvement projects.\n\nThe Tampa Home Show will be held next on Mar 23rd-24th, 2024 with additional shows on Aug 17th-18th, 2024, in Tampa, FL. This Tampa home show is held at Tampa Convention Center and hosted by Tampa Home Show & East Coast Consumer Shows.

X-ALT-DESC;FMTTYPE=text/html:<!DOCTYPE HTML PUBLIC "-//W3C//DTD HTML 3.2//EN">\n<HTML>\n<HEAD>\n<META NAME="Generator" CONTENT="MS Exchange Server version 08.00.0681.000">\n<TITLE></TITLE>\n</HEAD>\n<BODY>\n<!-- Converted from text/rtf format -->\n\nAt the Tampa Home Show you will find Builders, Contractors, Kitchens, Baths, Garden Displays, Landscapers, Pools, Spas, Security Systems, Garage Doors, Driveways, Windows, Solar, and much more.<br /><br />For one weekend, see wall-to-wall displays and exhibits of the latest trends in home improvement. Most importantly you’ll have the opportunity to speak directly with experts. You will receive the advice and inspiration you need to turn your dream home or other home improvement project into a reality. Our customers know that meeting their potential contractor face-to-face is the most valuable way to select a professional. Get reliable expertise for upcoming home improvement projects.<br /><br />The Tampa Home Show will be held next on Mar 23rd-24th, 2024 with additional shows on Aug 17th-18th, 2024, in Tampa, FL. This Tampa home show is held at Tampa Convention Center and hosted by Tampa Home Show & East Coast Consumer Shows.\n\n</BODY>\n</HTML>

LOCATION:Tampa Convention Center, 333, South Franklin Street, Wilhelmina, Tampa, Hillsborough County, Florida, 33602, United States
END:VEVENT

END:VCALENDAR
