BEGIN:VCALENDAR
VERSION:2.0
PRODID:-//hacksw/handcal//NONSGML v1.0//EN
BEGIN:VEVENT
UID:088f3a205f642fbf2495f155c26d970f
DTSTAMP:20260419T115448Z

DTSTART:20240301T100000
DTEND:20240303T180000
SUMMARY:Jacksonville Spring Home and Patio Show 2024
DESCRIPTION:The Jacksonville Spring Home & Patio Show is a vibrant marketplace where you can shop for home-related products and services, experience stunning displays to help inspire your next home project, connect with industry experts, and enjoy informative presentations from renowned local and international home professionals.\n\nWhether you’re joining us with a specific project in mind or just looking for some inspiration, our local home professionals have you covered. With 200+ booths to explore and several unique feature displays to enjoy, this is a valuable event for all homeowners.\n\nThe Jacksonville Spring Home and Patio Show will be held on Mar 1st-3rd, 2024 in Jacksonville, FL. This Jacksonville home show is held at Prime F Osborn III Convention Center and hosted by Jacksonville Spring Home & Patio Show.

X-ALT-DESC;FMTTYPE=text/html:<!DOCTYPE HTML PUBLIC "-//W3C//DTD HTML 3.2//EN">\n<HTML>\n<HEAD>\n<META NAME="Generator" CONTENT="MS Exchange Server version 08.00.0681.000">\n<TITLE></TITLE>\n</HEAD>\n<BODY>\n<!-- Converted from text/rtf format -->\n\nThe Jacksonville Spring Home & Patio Show is a vibrant marketplace where you can shop for home-related products and services, experience stunning displays to help inspire your next home project, connect with industry experts, and enjoy informative presentations from renowned local and international home professionals.<br /><br />Whether you’re joining us with a specific project in mind or just looking for some inspiration, our local home professionals have you covered. With 200+ booths to explore and several unique feature displays to enjoy, this is a valuable event for all homeowners.<br /><br />The Jacksonville Spring Home and Patio Show will be held on Mar 1st-3rd, 2024 in Jacksonville, FL. This Jacksonville home show is held at Prime F Osborn III Convention Center and hosted by Jacksonville Spring Home & Patio Show.\n\n</BODY>\n</HTML>

LOCATION:Prime F. Osborn III Convention Center, 1000, Water Street, LaVilla, Brooklyn, Jacksonville, Duval County, Florida, 32204, United States
END:VEVENT

END:VCALENDAR
