BEGIN:VCALENDAR
VERSION:2.0
PRODID:-//hacksw/handcal//NONSGML v1.0//EN
BEGIN:VEVENT
UID:ca670473038fc2036f1169f07170f9c8
DTSTAMP:20260419T152535Z

DTSTART:20240406T110000
DTEND:20240407T160000
SUMMARY:Connecticut Spring Home Show 2024
DESCRIPTION:The Connecticut Spring Home Show is the largest Spring Home Show in New England.  Access the best home builders and contractors under one roof for two days!\n\nThe 30th Annual Connecticut Spring Home Show will be held on Apr 6th-7th, 2024 in Hartford, CT. This Hartford home show is held at Hartford XL Center and hosted by Jenks Productions.

X-ALT-DESC;FMTTYPE=text/html:<!DOCTYPE HTML PUBLIC "-//W3C//DTD HTML 3.2//EN">\n<HTML>\n<HEAD>\n<META NAME="Generator" CONTENT="MS Exchange Server version 08.00.0681.000">\n<TITLE></TITLE>\n</HEAD>\n<BODY>\n<!-- Converted from text/rtf format -->\n\nThe Connecticut Spring Home Show is the largest Spring Home Show in New England.  Access the best home builders and contractors under one roof for two days!<br /><br />The 30th Annual Connecticut Spring Home Show will be held on Apr 6th-7th, 2024 in Hartford, CT. This Hartford home show is held at Hartford XL Center and hosted by Jenks Productions.\n\n</BODY>\n</HTML>

LOCATION:Hartford, Capitol Planning Region, Connecticut, United States
END:VEVENT

END:VCALENDAR
