BEGIN:VCALENDAR
VERSION:2.0
PRODID:-//hacksw/handcal//NONSGML v1.0//EN
BEGIN:VEVENT
UID:c2a7b71b31874bcc1375773760e8a55f
DTSTAMP:20260419T133407Z

DTSTART:20240506T080000
DTEND:20240508T200000
SUMMARY:Builder 100 Conference 2024
DESCRIPTION:Builder 100 is where senior executives from America’s largest volume home builders gather each year for unparalleled content, industry planning, and to explore the future of homebuilding.\n\nAn event where senior executives from America’s largest volume home builders gather each year for three days of unparalleled content and industry planning, focused on improving their top and bottom lines.​\n\nKenny G will join Builder 100 Leadership Summit for the networking reception on May 1st.

X-ALT-DESC;FMTTYPE=text/html:<!DOCTYPE HTML PUBLIC "-//W3C//DTD HTML 3.2//EN">\n<HTML>\n<HEAD>\n<META NAME="Generator" CONTENT="MS Exchange Server version 08.00.0681.000">\n<TITLE></TITLE>\n</HEAD>\n<BODY>\n<!-- Converted from text/rtf format -->\n\nBuilder 100 is where senior executives from America’s largest volume home builders gather each year for unparalleled content, industry planning, and to explore the future of homebuilding.<br /><br />An event where senior executives from America’s largest volume home builders gather each year for three days of unparalleled content and industry planning, focused on improving their top and bottom lines.​<br /><br />Kenny G will join Builder 100 Leadership Summit for the networking reception on May 1st.\n\n</BODY>\n</HTML>

LOCATION:The Ritz-Carlton, Laguna Niguel, Ritz Carlton Drive, Dana Point, Orange County, California, 92629, United States
END:VEVENT

END:VCALENDAR
