BEGIN:VCALENDAR
VERSION:2.0
PRODID:-//hacksw/handcal//NONSGML v1.0//EN
BEGIN:VEVENT
UID:35fb9f0468e1dd8f02ed19d674224b3f
DTSTAMP:20260419T115557Z

DTSTART:20240503T120000
DTEND:20240505T160000
SUMMARY:Salt Lake Home Expo - May 2024
DESCRIPTION:The Salt Lake Home Expo is just in time to finish up your home improvement projects! See the latest in home remodeling, design, outdoor living and so much more!\n\nThe Salt Lake Home Expo will be held next on Nov 10th-12th, 2023 with additional shows on May 3rd-5th, 2024, in Sandy, UT. This Sandy home show is held at Mountain America Expo Center and hosted by Salt Lake Home Expo & Nationwide Expos.

X-ALT-DESC;FMTTYPE=text/html:<!DOCTYPE HTML PUBLIC "-//W3C//DTD HTML 3.2//EN">\n<HTML>\n<HEAD>\n<META NAME="Generator" CONTENT="MS Exchange Server version 08.00.0681.000">\n<TITLE></TITLE>\n</HEAD>\n<BODY>\n<!-- Converted from text/rtf format -->\n\nThe Salt Lake Home Expo is just in time to finish up your home improvement projects! See the latest in home remodeling, design, outdoor living and so much more!<br /><br />The Salt Lake Home Expo will be held next on Nov 10th-12th, 2023 with additional shows on May 3rd-5th, 2024, in Sandy, UT. This Sandy home show is held at Mountain America Expo Center and hosted by Salt Lake Home Expo & Nationwide Expos.\n\n</BODY>\n</HTML>

LOCATION:9575, State Street, Mountain View Estates, Wallace Heights, Sandy, Salt Lake County, Utah, 84070, United States
END:VEVENT

END:VCALENDAR
