BEGIN:VCALENDAR
VERSION:2.0
PRODID:-//hacksw/handcal//NONSGML v1.0//EN
BEGIN:VEVENT
UID:46b07ba794cf296426f45c7534c142db
DTSTAMP:20260421T082441Z

DTSTART:20240926T070000
DTEND:20240928T190000
SUMMARY:NAHRO National Conference & Exhibition 2024
DESCRIPTION:NAHRO National Conference & Exhibition aims to be the leading resource for affordable and subsidized housing and community development through innovative research, analysis, advocacy, professional development, and ethics. Inspire and engage professionals in housing, community development, finance, government, and social services in collaboration with residents to create attainable and sustainable housing and communities for vulnerable families and individuals.

X-ALT-DESC;FMTTYPE=text/html:<!DOCTYPE HTML PUBLIC "-//W3C//DTD HTML 3.2//EN">\n<HTML>\n<HEAD>\n<META NAME="Generator" CONTENT="MS Exchange Server version 08.00.0681.000">\n<TITLE></TITLE>\n</HEAD>\n<BODY>\n<!-- Converted from text/rtf format -->\n\nNAHRO National Conference & Exhibition aims to be the leading resource for affordable and subsidized housing and community development through innovative research, analysis, advocacy, professional development, and ethics. Inspire and engage professionals in housing, community development, finance, government, and social services in collaboration with residents to create attainable and sustainable housing and communities for vulnerable families and individuals.\n\n</BODY>\n</HTML>

LOCATION:Orlando World Center Marriott, 8701, World Center Drive, Orlando, Orange County, Florida, 32821, United States
END:VEVENT

END:VCALENDAR
