BEGIN:VCALENDAR
VERSION:2.0
PRODID:-//hacksw/handcal//NONSGML v1.0//EN
BEGIN:VEVENT
UID:3b0d88879dc1f458d8dfb1a8ffd88ad5
DTSTAMP:20260420T070119Z

DTSTART:20220824T103000
DTEND:20220824T113000
SUMMARY:Helping Clients Find Down Payments
DESCRIPTION:Helping clients qualify is an essential step to buying a home, but we all face a common challenge: Finding clients that can afford a 20% down payment.\n\nDo you want to increase your knowledge and provide more information to your clientele? Do your clients fear they don’t qualify or have enough money to put down? Is your primary bulk of business geared towards first-time home buyers?\n\nProduce more leads and maximize your business with Paul Chhoeun. He will show you that a lower down payment is possible and you can qualify more than just first-time home buyers! 

X-ALT-DESC;FMTTYPE=text/html:<!DOCTYPE HTML PUBLIC "-//W3C//DTD HTML 3.2//EN">\n<HTML>\n<HEAD>\n<META NAME="Generator" CONTENT="MS Exchange Server version 08.00.0681.000">\n<TITLE></TITLE>\n</HEAD>\n<BODY>\n<!-- Converted from text/rtf format -->\n\nHelping clients qualify is an essential step to buying a home, but we all face a common challenge: Finding clients that can afford a 20% down payment.<br /><br />Do you want to increase your knowledge and provide more information to your clientele? Do your clients fear they don’t qualify or have enough money to put down? Is your primary bulk of business geared towards first-time home buyers?<br /><br />Produce more leads and maximize your business with Paul Chhoeun. He will show you that a lower down payment is possible and you can qualify more than just first-time home buyers! \n\n</BODY>\n</HTML>

LOCATION:
END:VEVENT

END:VCALENDAR
